BEGIN:VCALENDAR
VERSION:2.0
PRODID:-//Tukios.com/
BEGIN:VEVENT
UID:2ebc7aec-fda0-40c8-9d2e-8e3684e3f709@www.cremationservicesofohio.com
DTSTAMP:20260420T171632Z
DTSTART:20260424T190000Z
DTEND:20260424T200000Z
SUMMARY:Celebration of Life
DESCRIPTION:
URL:https://www.cremationservicesofohio.com/obituaries/george-myers
LOCATION:AMVETS Post #1994 417 West Espy Street  Kenton OH 43326
GEO:40.6377449;-83.6162414
END:VEVENT
END:VCALENDAR