BEGIN:VCALENDAR
VERSION:2.0
PRODID:-//Tukios.com/
BEGIN:VEVENT
UID:d3305c43-48b7-4f65-beab-f4b2ce22cb7a@www.cremationservicesofohio.com
DTSTAMP:20260420T171340Z
DTSTART:20260424T190000Z
DTEND:20260424T200000Z
SUMMARY:Memorial Service
DESCRIPTION:
URL:https://www.cremationservicesofohio.com/obituaries/george-myers
LOCATION:Grove Cemetery 15443 Ohio 309  Kenton OH 43326
GEO:40.6465047;-83.5852759
END:VEVENT
END:VCALENDAR