BEGIN:VCALENDAR
VERSION:2.0
PRODID:-//Tukios.com/
BEGIN:VEVENT
UID:d8d8ca91-02da-4d1d-bc21-4ccbabf25baa@www.cremationservicesofohio.com
DTSTAMP:20260425T223559Z
DTSTART:20260430T210000Z
DTEND:20260430T220000Z
SUMMARY:Memorial Gathering
DESCRIPTION:
URL:https://www.cremationservicesofohio.com/obituaries/edward-gaines
LOCATION:Green Camp Township Complex 2784 Prospect-Upper Sandusky Road 
	South  Marion OH 43302
GEO:40.5348852;-83.2123178
END:VEVENT
END:VCALENDAR