BEGIN:VCALENDAR
VERSION:2.0
PRODID:-//Tukios.com/
BEGIN:VEVENT
UID:743f679f-1a4a-45ed-9fcb-b8e5903b125e@www.cremationservicesofohio.com
DTSTAMP:20260425T223817Z
DTSTART:20260430T190000Z
DTEND:20260430T210000Z
SUMMARY:Funeral Service
DESCRIPTION:
URL:https://www.cremationservicesofohio.com/obituaries/edward-gaines
LOCATION:Enterprise Baptist Church 130 Orton Street  Marion OH 43302
GEO:40.619886;-83.1328842
END:VEVENT
END:VCALENDAR